BEGIN:VCALENDAR
VERSION:2.0
PRODID:-//ChamberMaster//Event Calendar 2.0//EN
METHOD:PUBLISH
X-PUBLISHED-TTL:P3D
REFRESH-INTERVAL:P3D
CALSCALE:GREGORIAN
BEGIN:VEVENT
DTSTART:20191210T210000Z
DTEND:20191211T000000Z
X-MICROSOFT-CDO-ALLDAYEVENT:FALSE
SUMMARY:2019 Legislative Forum and Holiday Reception
DESCRIPTION:Join the Greater Durham Chamber of Commerce\, elected officials\, and industry leaders for the 2019 Legislative Forum and Holiday Reception on Tuesday\, December 10\, 2019!\n\n3:30 p.m. Registration and Networking\n\n4:00 p.m. Legislative Forum\n\n5:00 p.m. Holiday Reception\n\n \n\nWe will hear from North Carolina Transportation Secretary\, James H. Trogdon\, III as he speaks on "The Future of Transportation and Economic Development in the Triangle" and a panel discussion\, lead by RTA's Joe Milazzo. \n\n \n\nPanelists include:\n\nShelley Blake Curran\n\nInterim President & CEO\, GoTriangle\n\n \n\nMichael Landguth\, AAE\n\nPresident & CEO\, Raleigh-Durham Airport Authority\n\n \n\nPatrick Young\, AICP\n\nDirector\, Durham City-County Planning Department\n\n \n\n\n\nThe Duke Energy Citizenship and Service Award will also be presented to a deserving individual for their outstanding contribution to Durham. After the forum\, please stay for cocktails and hors d'oeuvres and celebrate the season at the Holiday Reception!\n\n\n\n \n\nKey Investors receive a limited number of complimentary tickets. Please contact Tiffany Malory at tmalory@durhamchamber.org to check your status and claim your tickets.
X-ALT-DESC;FMTTYPE=text/html:Join the Greater Durham Chamber of Commerce\, elected officials\, and industry leaders for the 2019 Legislative Forum and Holiday Reception on Tuesday\, December 10\, 2019!<br />\n3:30 p.m. Registration and Networking<br />\n4:00 p.m. Legislative Forum<br />\n5:00 p.m. Holiday Reception<br />\n&nbsp\;<br />\nWe will hear from North Carolina Transportation Secretary\, James H. Trogdon\, III as he speaks on &quot\;The Future of Transportation and Economic Development in the Triangle&quot\; and a panel discussion\, lead by RTA&#39\;s Joe Milazzo.&nbsp\;<br />\n&nbsp\;<br />\nPanelists include:<br />\nShelley Blake Curran<br />\nInterim President &amp\; CEO\, GoTriangle<br />\n&nbsp\;<br />\nMichael Landguth\, AAE<br />\nPresident &amp\; CEO\, Raleigh-Durham Airport Authority<br />\n&nbsp\;<br />\nPatrick Young\, AICP<br />\nDirector\, Durham City-County Planning Department<br />\n&nbsp\;<br />\n<br />\nThe Duke Energy Citizenship and Service Award will also be presented to a deserving individual for their outstanding contribution to Durham. After the forum\, please stay for cocktails and hors d&#39\;oeuvres and celebrate the season at the Holiday Reception!<br />\n<br />\n&nbsp\;<br />\nKey Investors receive a limited number of complimentary tickets. Please contact Tiffany Malory at <a href="mailto:tmalory@durhamchamber.org">tmalory@durhamchamber.org</a> to check your status and claim your tickets.
LOCATION:Washington Duke Inn & Golf Club 3001 Cameron Boulevard Durham\, NC 27705
UID:e.1159.3734
SEQUENCE:3
DTSTAMP:20260420T225358Z
URL:http://durhamdev.chambermaster.com/events/details/2019-legislative-forum-and-holiday-reception-3734
END:VEVENT

END:VCALENDAR
