BEGIN:VCALENDAR
VERSION:2.0
PRODID:-//ChamberMaster//Event Calendar 2.0//EN
METHOD:PUBLISH
X-PUBLISHED-TTL:P3D
REFRESH-INTERVAL:P3D
CALSCALE:GREGORIAN
BEGIN:VEVENT
DTSTART:20190411T160000Z
DTEND:20190411T173000Z
X-MICROSOFT-CDO-ALLDAYEVENT:FALSE
SUMMARY:Executive Lunch Series: ReCity
DESCRIPTION:Join other Chamber members for a great lunch at Durham's nonprofit coworking space\, ReCity! \n\n\n\nThen enjoy lunch and connect with other Chamber members! Space is limited for this event\, so register today!
X-ALT-DESC;FMTTYPE=text/html:Join other Chamber members for a great lunch at Durham&#39\;s nonprofit coworking space\, ReCity!&nbsp\;<br />\n<br />\nThen enjoy lunch and connect with other Chamber members! Space is limited for this event\, so register today!
LOCATION:ReCity 112 Broadway Street\, Suite B Durham\, NC 27701
UID:e.1159.3706
SEQUENCE:3
DTSTAMP:20260422T095050Z
URL:http://durhamdev.chambermaster.com/events/details/executive-lunch-series-recity-3706
END:VEVENT

END:VCALENDAR
