BEGIN:VCALENDAR
VERSION:2.0
PRODID:-//ChamberMaster//Event Calendar 2.0//EN
METHOD:PUBLISH
X-PUBLISHED-TTL:P3D
REFRESH-INTERVAL:P3D
CALSCALE:GREGORIAN
BEGIN:VEVENT
DTSTART:20190619T160000Z
DTEND:20190619T173000Z
X-MICROSOFT-CDO-ALLDAYEVENT:FALSE
SUMMARY:Executive Lunch Series: The RTP Foundation - Event Full - Waitlist available
DESCRIPTION:The Research Triangle Park (RTP) is the largest research park in the United States. It is named for the three hub cities of Raleigh\, Durham\, and Chapel Hill\, or more properly for the major universities in those three cities (NC State University\, Duke University\, North Carolina Central University\, and the University of North Carolina at Chapel Hill respectively). Approximately one fourth of the park's territory lies in Wake County\, but the majority of its land is in Durham County.\n\n\n\nThe Research Triangle Park Foundation operates three buildings within RTP. These three buildings are The Frontier\, The Lab\, and The Archie K. Davis Conference Center. The Frontier is a collaboration space that was first opened in January 2015.  The Lab is a full-service lab and office space that houses multiple Research and Development companies.\n\n\n\nJoin us and other Durham Chamber members at The Frontier for lunch and to learn more about this unique research hub right here in our backyard. Meet and hear from CEO Scott Levitan and be the first to know what is on the horizon at RTP.\n\n\n\nSpace is limited\, so register today!
X-ALT-DESC;FMTTYPE=text/html:The Research Triangle Park (RTP) is the largest research park in the United States. It is named for the three hub cities of Raleigh\, Durham\, and Chapel Hill\, or more properly for the major universities in those three cities (NC State University\, Duke University\, North Carolina Central University\, and the University of North Carolina at Chapel Hill respectively). Approximately one fourth of the park&#39\;s territory lies in Wake County\, but the majority of its land is in Durham County.<br />\n<br />\nThe Research Triangle Park Foundation operates three buildings within RTP. These three buildings are The Frontier\, The Lab\, and The Archie K. Davis Conference Center. The Frontier is a collaboration space that was first opened in January 2015.&nbsp\; The Lab is a full-service lab and office space that houses multiple Research and Development companies.<br />\n<br />\nJoin us and other Durham Chamber members at The Frontier for lunch and to learn more about this unique research hub right here in our backyard. Meet and hear from CEO Scott Levitan and be the first to know what is on the horizon at RTP.<br />\n<br />\nSpace is limited\, so register today!
LOCATION:RTP Foundation The Frontier Campus - 600 Building 600 Park Offices Drive RTP\, NC 27709
UID:e.1159.3697
SEQUENCE:3
DTSTAMP:20260421T193952Z
URL:http://durhamdev.chambermaster.com/events/details/executive-lunch-series-the-rtp-foundation-event-full-waitlist-available-3697
END:VEVENT

END:VCALENDAR
