BEGIN:VCALENDAR
VERSION:2.0
PRODID:-//ChamberMaster//Event Calendar 2.0//EN
METHOD:PUBLISH
X-PUBLISHED-TTL:P3D
REFRESH-INTERVAL:P3D
CALSCALE:GREGORIAN
BEGIN:VEVENT
DTSTART:20190815T153000Z
DTEND:20190815T163000Z
X-MICROSOFT-CDO-ALLDAYEVENT:FALSE
SUMMARY:National Nonprofit Day
DESCRIPTION:Join your nonprofit peers in Durham for a fun National Nonprofit Day at ReCity this Thursday from 11:30 a.m. to 12:30 p.m.\n\n\n\nThanks for making Durham a better community!
X-ALT-DESC;FMTTYPE=text/html:Join your nonprofit peers in Durham for a fun National Nonprofit Day at ReCity this Thursday from 11:30 a.m. to 12:30 p.m.<br />\n<br />\nThanks for making Durham a better community!
LOCATION:ReCity 112 Broadway Street Durham\, NC 27701
UID:e.1159.3776
SEQUENCE:3
DTSTAMP:20260420T224012Z
URL:http://durhamdev.chambermaster.com/events/details/national-nonprofit-day-3776
END:VEVENT

END:VCALENDAR
