BEGIN:VCALENDAR
VERSION:2.0
PRODID:-//ChamberMaster//Event Calendar 2.0//EN
METHOD:PUBLISH
X-PUBLISHED-TTL:P3D
REFRESH-INTERVAL:P3D
CALSCALE:GREGORIAN
BEGIN:VEVENT
DTSTART:20190621T170000Z
DTEND:20190621T180000Z
X-MICROSOFT-CDO-ALLDAYEVENT:FALSE
SUMMARY:Ribbon Cutting: CQC Home
DESCRIPTION:Join us as we welcome CQC Home to their new location!\n\n\n\nCQC Home is a remodeler based in Durham and Raleigh\, owned by a man who has lived in Durham his whole life. We are committed to this community and see the remodeling process as an integral way to improve it. We care deeply about our clients and are committed to providing the very best experience from start to finish.
X-ALT-DESC;FMTTYPE=text/html:<span style="font-size:16px\;"><span style="font-family:verdana\;">Join us as we welcome CQC Home to their new location!<br />\n<br />\n<span style="color: rgb(33\, 37\, 41)\;">CQC Home is a remodeler based in Durham and Raleigh\, owned by a man who has lived in Durham his whole life. We are committed to this community and see the remodeling process as an integral way to improve it. We care deeply about our clients and are committed to providing the very best experience from start to finish.</span></span></span>
LOCATION:5102 Durham Chapel Hill Blvd Suite 100 Durham\, NC 27707
UID:e.1159.3748
SEQUENCE:3
DTSTAMP:20260422T031300Z
URL:http://durhamdev.chambermaster.com/events/details/ribbon-cutting-cqc-home-3748
END:VEVENT

END:VCALENDAR
