BEGIN:VCALENDAR
VERSION:2.0
PRODID:-//ChamberMaster//Event Calendar 2.0//EN
METHOD:PUBLISH
X-PUBLISHED-TTL:P3D
REFRESH-INTERVAL:P3D
CALSCALE:GREGORIAN
BEGIN:VEVENT
DTSTART:20200417T140000Z
DTEND:20200417T150000Z
X-MICROSOFT-CDO-ALLDAYEVENT:FALSE
SUMMARY:StoredTech's Tech Tips for Business Owners: Security and Collaboration
DESCRIPTION:Join Durham Chamber member StoredTech for some smart advice on:\n\n\n\n  Protecting your business in a remote work world\n\n  Employee security protocols\n\n  Communication vs Collaboration
X-ALT-DESC;FMTTYPE=text/html:<span style="font-family:tahoma\;">Join Durham Chamber member StoredTech for some smart advice on:</span><br />\n<br />\n&bull\; Protecting your business in a remote work world<br />\n&bull\; Employee security protocols<br />\n&bull\; Communication vs Collaboration
LOCATION:Online Zoom webinar https://zoom.us/webinar/register/WN_ZAdVFdO7SjiY--fIPR9lBg After registering\, you will receive a confirmation email containing information about joining the webinar.
UID:e.1159.5346
SEQUENCE:3
DTSTAMP:20260419T162946Z
URL:http://durhamdev.chambermaster.com/events/details/storedtech-s-tech-tips-for-business-owners-security-and-collaboration-5346
END:VEVENT

END:VCALENDAR
