BEGIN:VCALENDAR
VERSION:2.0
PRODID:-//ChamberMaster//Event Calendar 2.0//EN
METHOD:PUBLISH
X-PUBLISHED-TTL:P3D
REFRESH-INTERVAL:P3D
CALSCALE:GREGORIAN
BEGIN:VEVENT
DTSTART:20191123T230000Z
DTEND:20191124T040000Z
X-MICROSOFT-CDO-ALLDAYEVENT:FALSE
SUMMARY:Tails at Twilight Gala
DESCRIPTION:Join us for an evening of spirited fun and generous giving to benefit the Animal Protection Society of Durham at our Tails at Twilight gala. Tickets include a hosted cocktail reception\, three-course dinner\, silent and live auctions\, and dancing to a live band. Attire is semi-formal\, festive. Please purchase tickets by November 20th to ensure your seat at the table. Go to www.apsofdurham.org/Tails-at-Twilight  for tickets and more information.
X-ALT-DESC;FMTTYPE=text/html:J<span style="color:black\;"><span style="font-family:calibri\,sans-serif\;"><span style="font-size:11.0pt\;">oin us for an evening of spirited fun and generous giving to benefit the Animal Protection Society of Durham at our Tails at Twilight gala. Tickets include a hosted cocktail reception\, three-course dinner\, silent and live auctions\, and dancing to a live band. Attire is semi-formal\, festive. Please purchase tickets by November 20<sup>th</sup> to ensure your seat at the table. Go to <a href="http://www.apsofdurham.org/Tails-at-Twilight">www.apsofdurham.org/Tails-at-Twilight</a>&nbsp\; for tickets and more information.</span></span></span>
LOCATION:Washington Duke Inn & Golf Club\, 3001 Cameron Boulevard\, Durham\, NC 27705
UID:e.1159.3793
SEQUENCE:3
DTSTAMP:20260420T182226Z
URL:http://durhamdev.chambermaster.com/events/details/tails-at-twilight-gala-3793
END:VEVENT

END:VCALENDAR
