BEGIN:VCALENDAR
VERSION:2.0
PRODID:-//ChamberMaster//Event Calendar 2.0//EN
METHOD:PUBLISH
X-PUBLISHED-TTL:P3D
REFRESH-INTERVAL:P3D
CALSCALE:GREGORIAN
BEGIN:VEVENT
DTSTART:20190908T160000Z
DTEND:20190908T210000Z
X-MICROSOFT-CDO-ALLDAYEVENT:FALSE
SUMMARY:WellFest 2019
DESCRIPTION:What is WellFest?\n\nA weekend of rejuvenation of the mind and body in downtown Durham\, WellFest offers food\, fun and flow to get you back to living your best life. \n\n\n\nOn Sunday\, WellFest will take over American Tobacco Campus\, offering a Mindful Market where you can browse healthy artisans and vendors\, and then choose your own experience by selecting from: a speaker series\; innovative fitness classes for all levels\; a tranquility room to rest\; hands-on crafting classes\; nutritious food and drink\; and activities designed to help you discover your inner child.
X-ALT-DESC;FMTTYPE=text/html:What is WellFest?<br />\nA weekend of rejuvenation of the mind and body in downtown Durham\, WellFest offers food\, fun and flow to get you back to living your best life.&nbsp\;<br />\n<br />\nOn Sunday\, WellFest will take over American Tobacco Campus\, offering a Mindful Market where you can browse healthy artisans and vendors\, and then choose your own experience by selecting from: a speaker series\; innovative fitness classes for all levels\; a tranquility room to rest\; hands-on crafting classes\; nutritious food and drink\; and activities designed to help you discover your inner child.
LOCATION:American Tobacco Campus
UID:e.1159.3745
SEQUENCE:3
DTSTAMP:20260421T024821Z
URL:http://durhamdev.chambermaster.com/events/details/wellfest-2019-3745
END:VEVENT

END:VCALENDAR
